BEGIN:VCALENDAR
VERSION:2.0
PRODID:-//Library Market//iCal Export//EN
BEGIN:VEVENT
SUMMARY:Movement time
UID:15978
DTSTAMP:20260422T034000Z
DTSTART:20260616T150000Z
DTEND:20260616T160000Z
LOCATION:Mystic &amp; Noank Library, 40 Library St., Mystic, CT 06355, Uni
 ted States
ROOM: Ames Room
DESCRIPTION:Time to get moving! This 30-minute class for toddlers to age 5
  will combine movement opportunities with an active story time. Enjoy a ci
 rcle song with movement imitation then try a small obstacle course followe
 d by an active story time while we act out the plot through physical movem
 ents. We will close our time back in the circle for some warm down activit
 ies
URL:https://mysticnoank.librarycalendar.com/event/movement-time-15978
END:VEVENT
END:VCALENDAR
